BEGIN:VCALENDAR
VERSION:2.0
PRODID:-//bach.wu.ac.at/d/grants/GRANTS
CALSCALE:GREGORIAN
METHOD:PUBLISH
X-WR-TIMEZONE:Europe/Vienna
BEGIN:VEVENT
SUMMARY:Jubiläumsfonds der Stadt Wien für die WU Wien
DTSTART;VALUE=DATE-TIME:20260428T230000
DTEND;VALUE=DATE-TIME:20260428T230000
DTSTAMP;VALUE=DATE-TIME:20260423T024317Z
UID:grant_99@bach.wu.ac.at
DESCRIPTION:<B>English Version:</B> <A HREF="http://www.wu.ac.at/fileadmin
 /wu/h/research/city_of_vienna_anniversary_fund_call_english.pdf">City of V
 ienna WU Jubilee Fund</A><br><br>\nDer "Jubiläumsfonds der Stadt Wien fü
 r die Wirtschaftsuniversität Wien" wurde 1998 aus Anlass des 100-jährige
 n Bestehens der Wirtschaftsuniversität Wien zur Förderung von wirtschaft
 swissenschaftlichen Forschungen\, deren Ergebnisse für die Stadt Wien int
 eressant und nützlich und die geeignet sind\, Impulse für die Wiener Wir
 tschaft zu geben\, eingerichtet. Der Jubiläumsfonds hat vor allem die Auf
 gabe\, im Sinne der Wirtschaftswissenschaften\, der Wiener Wirtschaft und 
 der Wiener Stadtverwaltung Wissenstransferflüsse zwischen diesen drei Ber
 eichen zu verstärken und zu verbessern.<br>Aus den Mitteln des Fonds werd
 en Forschungen gefördert\, die im Bereich der Wirtschaftsuniversität Wie
 n beheimatet sind oder in einem engen inhaltlichen und organisatorischen Z
 usammenhang mit den Forschungen der Wirtschaftsuniversität stehen und die
  Impulse für eine Verstärkung der Innovationspotentiale in Wien geben. D
 er Jubiläumsfonds ist wichtiger Teil jener Initiativen der Stadt\, mit de
 nen Potenziale und Ressourcen von Forschung\, Verwaltung und Wirtschaft be
 sser vernetzt werden sollen.<br>\nFinanzierungsbereich: Projekte im Bereic
 h der Wirtschaftsuniversität Wien\, die der Verbesserung der internationa
 len Wettbewerbsfähigkeit Wiens als Kultur-\, Wissenschafts- und Wirtschaf
 tszentrum dienen und von denen eine Belebung des Zusammenwirkens von Wirts
 chaftswissenschaft und Wirtschaft in Wien zu erwarten ist.<br>\n<br>\nsieh
 e <A HREF="https://www.wu.ac.at/fileadmin/wu/h/research/satzung_neu_2017.p
 df">Satzung</A>
URL:https://bach.wu.ac.at/d/grants/99/
END:VEVENT
END:VCALENDAR
