BEGIN:VCALENDAR
VERSION:2.0
PRODID:-//bach.wu.ac.at/d/grants/GRANTS
CALSCALE:GREGORIAN
METHOD:PUBLISH
X-WR-TIMEZONE:Europe/Vienna
BEGIN:VEVENT
SUMMARY:Assistent/inn/en-Kleinprojekte der WU
DTSTART;VALUE=DATE-TIME:20260331T120000
DTEND;VALUE=DATE-TIME:20260331T120000
DTSTAMP;VALUE=DATE-TIME:20260422T034745Z
UID:grant_23@bach.wu.ac.at
DESCRIPTION:<B>English Version:</B> <A HREF="http://www.wu.ac.at/fileadmin
 /wu/h/research/small_scale_projects_english.pdf">Small scale Projects by W
 U junior faculty</A><br><br>\nGenerierung von Forschungsergebnissen im Rah
 men eines selbständigen Projekts
URL:https://bach.wu.ac.at/d/grants/23/
END:VEVENT
END:VCALENDAR
